BEGIN:VCALENDAR
VERSION:2.0
METHOD:PUBLISH
PRODID:-//Agenda.ad//NONSGML v1.0//EN
BEGIN:VEVENT
CLASS:PUBLIC
UID:cfb204fa535e5c91f01fecd1c2235532@agenda.ad
DTSTAMP:20260424T101349Z
DTSTART:20191115T230000Z
DTEND:20191115T230000Z
SUMMARY:<span>Concerts a La Fada &middot;&nbsp;<span>King Sapo</span></span>
DESCRIPTION:\n\nMés informació\nhttps://www.agenda.ad/activitat/andorr
 a-la-vella/musica/concerts-a-la-fada- king-sapo\n\n\nOrgani
 tza\nLa Fada Ignorant
LOCATION:La Fada Ignorant
SEQUENCE:0
TRANSP:OPAQUE
X-ALT-DESC;FMTTYPE=text/html:<!DOCTYPE HTML PUBLIC "-//W3C//DTD HTML 3.2//EN"><HTML><HEAD
 ><TITLE></TITLE></HEAD><BODY><FONT FACE="Arial" SIZE=2><br/>
 <br/><b>Més informació</b><br/><a href="https://www.agenda
 .ad/activitat/andorra-la-vella/musica/concerts-a-la-fada- k
 ing-sapo">https://www.agenda.ad/activitat/andorra-la-vella/m
 usica/concerts-a-la-fada- king-sapo</a><br/><br/><br/><b>Or
 ganitza</b><br/>La Fada Ignorant</FONT></BODY></HTML>
END:VEVENT
END:VCALENDAR